BEGIN:VCALENDAR
VERSION:2.0
PRODID:-//La Fourmilière - ECPv6.15.20//NONSGML v1.0//EN
CALSCALE:GREGORIAN
METHOD:PUBLISH
X-ORIGINAL-URL:https://lafourmiliere.bzh
X-WR-CALDESC:Évènements pour La Fourmilière
REFRESH-INTERVAL;VALUE=DURATION:PT1H
X-Robots-Tag:noindex
X-PUBLISHED-TTL:PT1H
BEGIN:VTIMEZONE
TZID:Europe/Paris
BEGIN:DAYLIGHT
TZOFFSETFROM:+0100
TZOFFSETTO:+0200
TZNAME:CEST
DTSTART:20240331T010000
END:DAYLIGHT
BEGIN:STANDARD
TZOFFSETFROM:+0200
TZOFFSETTO:+0100
TZNAME:CET
DTSTART:20241027T010000
END:STANDARD
BEGIN:DAYLIGHT
TZOFFSETFROM:+0100
TZOFFSETTO:+0200
TZNAME:CEST
DTSTART:20250330T010000
END:DAYLIGHT
BEGIN:STANDARD
TZOFFSETFROM:+0200
TZOFFSETTO:+0100
TZNAME:CET
DTSTART:20251026T010000
END:STANDARD
BEGIN:DAYLIGHT
TZOFFSETFROM:+0100
TZOFFSETTO:+0200
TZNAME:CEST
DTSTART:20260329T010000
END:DAYLIGHT
BEGIN:STANDARD
TZOFFSETFROM:+0200
TZOFFSETTO:+0100
TZNAME:CET
DTSTART:20261025T010000
END:STANDARD
END:VTIMEZONE
BEGIN:VEVENT
DTSTART;TZID=Europe/Paris:20250109T183000
DTEND;TZID=Europe/Paris:20250109T210000
DTSTAMP:20260421T151255
CREATED:20240828T083550Z
LAST-MODIFIED:20240828T084451Z
UID:667-1736447400-1736456400@lafourmiliere.bzh
SUMMARY:Expériences et coopératives sur le territoire
DESCRIPTION:Soirée organisée par l’association Le Galais Monnaie locale du Pays de Ploërmel
URL:https://lafourmiliere.bzh/agenda-des-fourmis/experiences-et-cooperatives-sur-le-territoire/
END:VEVENT
END:VCALENDAR