BEGIN:VCALENDAR
VERSION:2.0
PRODID:-//La Fourmilière - ECPv6.15.20//NONSGML v1.0//EN
CALSCALE:GREGORIAN
METHOD:PUBLISH
X-ORIGINAL-URL:https://lafourmiliere.bzh
X-WR-CALDESC:Évènements pour La Fourmilière
REFRESH-INTERVAL;VALUE=DURATION:PT1H
X-Robots-Tag:noindex
X-PUBLISHED-TTL:PT1H
BEGIN:VTIMEZONE
TZID:Europe/Paris
BEGIN:DAYLIGHT
TZOFFSETFROM:+0100
TZOFFSETTO:+0200
TZNAME:CEST
DTSTART:20230326T010000
END:DAYLIGHT
BEGIN:STANDARD
TZOFFSETFROM:+0200
TZOFFSETTO:+0100
TZNAME:CET
DTSTART:20231029T010000
END:STANDARD
BEGIN:DAYLIGHT
TZOFFSETFROM:+0100
TZOFFSETTO:+0200
TZNAME:CEST
DTSTART:20240331T010000
END:DAYLIGHT
BEGIN:STANDARD
TZOFFSETFROM:+0200
TZOFFSETTO:+0100
TZNAME:CET
DTSTART:20241027T010000
END:STANDARD
BEGIN:DAYLIGHT
TZOFFSETFROM:+0100
TZOFFSETTO:+0200
TZNAME:CEST
DTSTART:20250330T010000
END:DAYLIGHT
BEGIN:STANDARD
TZOFFSETFROM:+0200
TZOFFSETTO:+0100
TZNAME:CET
DTSTART:20251026T010000
END:STANDARD
END:VTIMEZONE
BEGIN:VEVENT
DTSTART;TZID=Europe/Paris:20241105T183000
DTEND;TZID=Europe/Paris:20241105T203000
DTSTAMP:20260421T175449
CREATED:20240903T081141Z
LAST-MODIFIED:20240903T081141Z
UID:689-1730831400-1730838600@lafourmiliere.bzh
SUMMARY:Atelier d'écriture
DESCRIPTION:Atelier d’écriture animé par Jean-Christophe\, Marie-Hélène et Marc et organisé par Le Galais\, Monnaie Locale du Pays de Ploërmel. \nUne occasion de se motiver pour écrire\, éventuellement de lire ce que d’autres écrivent et de donner à lire ses écrits à d’autres. Ce n’est ni un accompagnement professionnel\, ni un soutien à l’édition. Après un temps d’accueil collectif\, chaque atelier se déroulera en sous-groupes\, en fonction des affinités et des souhaits de chacun. Sur inscription à sarrotjc[a]free.fr
URL:https://lafourmiliere.bzh/agenda-des-fourmis/atelier-decriture-2/
END:VEVENT
BEGIN:VEVENT
DTSTART;TZID=Europe/Paris:20241106T143000
DTEND;TZID=Europe/Paris:20241106T180000
DTSTAMP:20260421T175449
CREATED:20241010T084736Z
LAST-MODIFIED:20241010T084736Z
UID:771-1730903400-1730916000@lafourmiliere.bzh
SUMMARY:Café associatif ouvert
DESCRIPTION:Tous les Mercredis après-midis 14h30-18h\, ouverture du café associatif. \nActivités pour les adhérent.es: \n14h30: Jeux d’échecs avec Marc \n14h30: Crochet avec Sylviane \n15h: Impro musicale avec Julie et Steeven (prix libre) \n16h15: Initiation Aquarelle avec Isabelle
URL:https://lafourmiliere.bzh/agenda-des-fourmis/cafe-associatif-ouvert-4/
END:VEVENT
BEGIN:VEVENT
DTSTART;TZID=Europe/Paris:20241114T183000
DTEND;TZID=Europe/Paris:20241114T210000
DTSTAMP:20260421T175449
CREATED:20240828T083014Z
LAST-MODIFIED:20240828T083014Z
UID:663-1731609000-1731618000@lafourmiliere.bzh
SUMMARY:Soirée Galais "Rencontre avec les jeunes producteurs locaux (EARL La Bouvrais\, Infuz la nature\, ferme Graines de Vie)
DESCRIPTION:Soirée organisée par l’association Le Galais Monnaie locale du Pays de Ploërmel
URL:https://lafourmiliere.bzh/agenda-des-fourmis/soiree-galais-rencontre-avec-les-jeunes-producteurs-locaux-earl-la-bouvrais-infuz-la-nature-ferme-graines-de-vie/
END:VEVENT
BEGIN:VEVENT
DTSTART;TZID=Europe/Paris:20241119T183000
DTEND;TZID=Europe/Paris:20241119T203000
DTSTAMP:20260421T175449
CREATED:20240903T081238Z
LAST-MODIFIED:20240903T081238Z
UID:691-1732041000-1732048200@lafourmiliere.bzh
SUMMARY:Atelier d'écriture
DESCRIPTION:Atelier d’écriture animé par Jean-Christophe\, Marie-Hélène et Marc et organisé par Le Galais\, Monnaie Locale du Pays de Ploërmel. \nUne occasion de se motiver pour écrire\, éventuellement de lire ce que d’autres écrivent et de donner à lire ses écrits à d’autres. Ce n’est ni un accompagnement professionnel\, ni un soutien à l’édition. Après un temps d’accueil collectif\, chaque atelier se déroulera en sous-groupes\, en fonction des affinités et des souhaits de chacun. Sur inscription à sarrotjc[a]free.fr
URL:https://lafourmiliere.bzh/agenda-des-fourmis/atelier-decriture-3/
END:VEVENT
END:VCALENDAR