BEGIN:VCALENDAR
VERSION:2.0
PRODID:-//La Fourmilière - ECPv6.15.20//NONSGML v1.0//EN
CALSCALE:GREGORIAN
METHOD:PUBLISH
X-ORIGINAL-URL:https://lafourmiliere.bzh
X-WR-CALDESC:Évènements pour La Fourmilière
REFRESH-INTERVAL;VALUE=DURATION:PT1H
X-Robots-Tag:noindex
X-PUBLISHED-TTL:PT1H
BEGIN:VTIMEZONE
TZID:Europe/Paris
BEGIN:DAYLIGHT
TZOFFSETFROM:+0100
TZOFFSETTO:+0200
TZNAME:CEST
DTSTART:20230326T010000
END:DAYLIGHT
BEGIN:STANDARD
TZOFFSETFROM:+0200
TZOFFSETTO:+0100
TZNAME:CET
DTSTART:20231029T010000
END:STANDARD
BEGIN:DAYLIGHT
TZOFFSETFROM:+0100
TZOFFSETTO:+0200
TZNAME:CEST
DTSTART:20240331T010000
END:DAYLIGHT
BEGIN:STANDARD
TZOFFSETFROM:+0200
TZOFFSETTO:+0100
TZNAME:CET
DTSTART:20241027T010000
END:STANDARD
BEGIN:DAYLIGHT
TZOFFSETFROM:+0100
TZOFFSETTO:+0200
TZNAME:CEST
DTSTART:20250330T010000
END:DAYLIGHT
BEGIN:STANDARD
TZOFFSETFROM:+0200
TZOFFSETTO:+0100
TZNAME:CET
DTSTART:20251026T010000
END:STANDARD
END:VTIMEZONE
BEGIN:VEVENT
DTSTART;TZID=Europe/Paris:20241004T100000
DTEND;TZID=Europe/Paris:20241004T120000
DTSTAMP:20260421T185457
CREATED:20240919T102509Z
LAST-MODIFIED:20241002T145420Z
UID:738-1728036000-1728043200@lafourmiliere.bzh
SUMMARY:Porteur de parole sur le marché de Ploërmel
DESCRIPTION:La Fourmilière organise un porteur de parole sur le marché de Ploërmel le vendredi 4 octobre de 8h à 13h. L’occasion de faire découvrir le lieu aux ploërmelais et d’échanger autour de notre projet et de ses valeurs: convivialité\, solidarité\, rencontre et lien social. \nAu plaisir de vous y voir!
URL:https://lafourmiliere.bzh/agenda-des-fourmis/porteur-de-parole-sur-le-marche-de-ploermel/
END:VEVENT
BEGIN:VEVENT
DTSTART;TZID=Europe/Paris:20241009T143000
DTEND;TZID=Europe/Paris:20241009T180000
DTSTAMP:20260421T185457
CREATED:20241010T084814Z
LAST-MODIFIED:20241010T084852Z
UID:773-1728484200-1728496800@lafourmiliere.bzh
SUMMARY:Café associatif ouvert
DESCRIPTION:Tous les Mercredis après-midis 14h30-18h\, ouverture du café associatif. \nActivités pour les adhérent.es: \n14h30: Jeux d’échecs avec Marc \n14h30: Crochet avec Sylviane \n15h: Impro musicale avec Julie et Steeven (prix libre) \n16h15: Initiation Aquarelle avec Isabelle
URL:https://lafourmiliere.bzh/agenda-des-fourmis/cafe-associatif-ouvert-5/
END:VEVENT
BEGIN:VEVENT
DTSTART;TZID=Europe/Paris:20241010T183000
DTEND;TZID=Europe/Paris:20241010T210000
DTSTAMP:20260421T185457
CREATED:20240828T082845Z
LAST-MODIFIED:20240828T082845Z
UID:661-1728585000-1728594000@lafourmiliere.bzh
SUMMARY:Soirée Galais "Les impacts concrets des monnaies locales (à partir du rapport du Mouvement Sol 2021)
DESCRIPTION:Soirée organisée par l’association Le Galais Monnaie locale du Pays de Ploërmel
URL:https://lafourmiliere.bzh/agenda-des-fourmis/soiree-galais-les-impacts-concrets-des-monnaies-locales-a-partir-du-rapport-du-mouvement-sol-2021/
END:VEVENT
BEGIN:VEVENT
DTSTART;TZID=Europe/Paris:20241011T173000
DTEND;TZID=Europe/Paris:20241011T200000
DTSTAMP:20260421T185457
CREATED:20241009T162003Z
LAST-MODIFIED:20241009T162033Z
UID:760-1728667800-1728676800@lafourmiliere.bzh
SUMMARY:Bar associatif ouvert
DESCRIPTION:
URL:https://lafourmiliere.bzh/agenda-des-fourmis/bar-associatif-ouvert/
END:VEVENT
BEGIN:VEVENT
DTSTART;TZID=Europe/Paris:20241015T173000
DTEND;TZID=Europe/Paris:20241015T193000
DTSTAMP:20260421T185457
CREATED:20241010T085116Z
LAST-MODIFIED:20241010T085149Z
UID:775-1729013400-1729020600@lafourmiliere.bzh
SUMMARY:Atelier communication non violente
DESCRIPTION:Atelier animé par Sylvie autour du thème : « savoir dire non et rester en connexion » \nSur inscription par mail à l’adresse lafourmiliere@kaz.bzh
URL:https://lafourmiliere.bzh/agenda-des-fourmis/atelier-communication-non-violente/
END:VEVENT
BEGIN:VEVENT
DTSTART;TZID=Europe/Paris:20241016T143000
DTEND;TZID=Europe/Paris:20241016T180000
DTSTAMP:20260421T185457
CREATED:20241010T084508Z
LAST-MODIFIED:20241010T084508Z
UID:765-1729089000-1729101600@lafourmiliere.bzh
SUMMARY:Café associatif ouvert
DESCRIPTION:Tous les Mercredis après-midis 14h30-18h\, ouverture du café associatif. \nActivités pour les adhérent.es: \n14h30: Jeux d’échecs avec Marc \n14h30: Crochet avec Sylviane \n15h: Impro musicale avec Julie et Steeven (prix libre) \n16h15: Initiation Aquarelle avec Isabelle
URL:https://lafourmiliere.bzh/agenda-des-fourmis/cafe-associatif-ouvert/
END:VEVENT
BEGIN:VEVENT
DTSTART;TZID=Europe/Paris:20241017T093000
DTEND;TZID=Europe/Paris:20241018T173000
DTSTAMP:20260421T185457
CREATED:20241010T084258Z
LAST-MODIFIED:20241010T084258Z
UID:763-1729157400-1729272600@lafourmiliere.bzh
SUMMARY:Formation pôle ESS aux outils KAZ
DESCRIPTION:Le Pôle ESS’entiel Ploërmel organise une formation gratuite aux outils numériques libres à la Fourmilière (Ploërmel) animée par l’association Kaz les 17 et 18 octobre.\n\nFormation gratuite « Mettre en place et utiliser des outils numériques libres pour mon association » \n\n\n\nJeudi 17 et vendredi 18 octobre à la Fourmilière ( 59 A boulevard Laënnec à Ploërmel) de 9h30 à 17h30. \nL’association morbihannaise Kaz propose des outils numériques libres\, éthiques et décentralisés\, respectueux des données et de la vie privée \nAu programme de ces deux jours de formation : toutes les clés pour passer individuellement et collectivement au numérique libre !\n\n> Inventaire des outils coopératifs\n> Présentation du logiciel libre de gestion d’associations Paheko (adhésions\, cotisations\, comptabilité)\n> Plateforme événementielle Mobilizon\n> Outils de messagerie classique et instantanée\, listes de diffusion et lettres d’information\n> Agenda partagé\n> Coffre numérique (gestion de mots de passe)\n> Cloud et documents partagés… \nN’hésitez pas à venir avec votre propre matériel (ordinateur portable)\, vos attentes et vos questions : la formation est pensée pour s’adapter à vos besoins et ceux de vos collectifs. \n\nInscrivez-vous à cette adresse :  https://link.infini.fr/j3KXQGGQ
URL:https://lafourmiliere.bzh/agenda-des-fourmis/formation-pole-ess-aux-outils-kaz/
END:VEVENT
BEGIN:VEVENT
DTSTART;TZID=Europe/Paris:20241022T183000
DTEND;TZID=Europe/Paris:20241022T203000
DTSTAMP:20260421T185457
CREATED:20240903T080952Z
LAST-MODIFIED:20240903T080952Z
UID:687-1729621800-1729629000@lafourmiliere.bzh
SUMMARY:Atelier d'écriture
DESCRIPTION:Atelier d’écriture animé par Jean-Christophe\, Marie-Hélène et Marc et organisé par Le Galais\, Monnaie Locale du Pays de Ploërmel. \nUne occasion de se motiver pour écrire\, éventuellement de lire ce que d’autres écrivent et de donner à lire ses écrits à d’autres. Ce n’est ni un accompagnement professionnel\, ni un soutien à l’édition. Après un temps d’accueil collectif\, chaque atelier se déroulera en sous-groupes\, en fonction des affinités et des souhaits de chacun. Sur inscription à sarrotjc[a]free.fr \n  \n 
URL:https://lafourmiliere.bzh/agenda-des-fourmis/atelier-decriture/
END:VEVENT
BEGIN:VEVENT
DTSTART;TZID=Europe/Paris:20241023T143000
DTEND;TZID=Europe/Paris:20241023T180000
DTSTAMP:20260421T185457
CREATED:20241010T084556Z
LAST-MODIFIED:20241010T084556Z
UID:767-1729693800-1729706400@lafourmiliere.bzh
SUMMARY:Café associatif ouvert
DESCRIPTION:Tous les Mercredis après-midis 14h30-18h\, ouverture du café associatif. \nActivités pour les adhérent.es: \n14h30: Jeux d’échecs avec Marc \n14h30: Crochet avec Sylviane \n15h: Impro musicale avec Julie et Steeven (prix libre) \n16h15: Initiation Aquarelle avec Isabelle
URL:https://lafourmiliere.bzh/agenda-des-fourmis/cafe-associatif-ouvert-2/
END:VEVENT
BEGIN:VEVENT
DTSTART;TZID=Europe/Paris:20241030T143000
DTEND;TZID=Europe/Paris:20241030T180000
DTSTAMP:20260421T185457
CREATED:20241010T084639Z
LAST-MODIFIED:20241010T084639Z
UID:769-1730298600-1730311200@lafourmiliere.bzh
SUMMARY:Café associatif ouvert
DESCRIPTION:Tous les Mercredis après-midis 14h30-18h\, ouverture du café associatif. \nActivités pour les adhérent.es: \n14h30: Jeux d’échecs avec Marc \n14h30: Crochet avec Sylviane \n15h: Impro musicale avec Julie et Steeven (prix libre) \n16h15: Initiation Aquarelle avec Isabelle
URL:https://lafourmiliere.bzh/agenda-des-fourmis/cafe-associatif-ouvert-3/
END:VEVENT
END:VCALENDAR