BEGIN:VCALENDAR
VERSION:2.0
PRODID:-//La Fourmilière - ECPv6.15.20//NONSGML v1.0//EN
CALSCALE:GREGORIAN
METHOD:PUBLISH
X-ORIGINAL-URL:https://lafourmiliere.bzh
X-WR-CALDESC:Évènements pour La Fourmilière
REFRESH-INTERVAL;VALUE=DURATION:PT1H
X-Robots-Tag:noindex
X-PUBLISHED-TTL:PT1H
BEGIN:VTIMEZONE
TZID:Europe/Paris
BEGIN:DAYLIGHT
TZOFFSETFROM:+0100
TZOFFSETTO:+0200
TZNAME:CEST
DTSTART:20230326T010000
END:DAYLIGHT
BEGIN:STANDARD
TZOFFSETFROM:+0200
TZOFFSETTO:+0100
TZNAME:CET
DTSTART:20231029T010000
END:STANDARD
BEGIN:DAYLIGHT
TZOFFSETFROM:+0100
TZOFFSETTO:+0200
TZNAME:CEST
DTSTART:20240331T010000
END:DAYLIGHT
BEGIN:STANDARD
TZOFFSETFROM:+0200
TZOFFSETTO:+0100
TZNAME:CET
DTSTART:20241027T010000
END:STANDARD
BEGIN:DAYLIGHT
TZOFFSETFROM:+0100
TZOFFSETTO:+0200
TZNAME:CEST
DTSTART:20250330T010000
END:DAYLIGHT
BEGIN:STANDARD
TZOFFSETFROM:+0200
TZOFFSETTO:+0100
TZNAME:CET
DTSTART:20251026T010000
END:STANDARD
END:VTIMEZONE
BEGIN:VEVENT
DTSTART;TZID=Europe/Paris:20240904T140000
DTEND;TZID=Europe/Paris:20240904T180000
DTSTAMP:20260421T195650
CREATED:20240823T133613Z
LAST-MODIFIED:20240829T114113Z
UID:654-1725458400-1725472800@lafourmiliere.bzh
SUMMARY:Ouverture café associatif
DESCRIPTION:
URL:https://lafourmiliere.bzh/agenda-des-fourmis/ouverture-cafe-associatif-5/
END:VEVENT
BEGIN:VEVENT
DTSTART;TZID=Europe/Paris:20240904T150000
DTEND;TZID=Europe/Paris:20240904T170000
DTSTAMP:20260421T195650
CREATED:20240828T165439Z
LAST-MODIFIED:20240828T165439Z
UID:684-1725462000-1725469200@lafourmiliere.bzh
SUMMARY:Atelier initiation aquarelle avec Isabelle
DESCRIPTION:
URL:https://lafourmiliere.bzh/agenda-des-fourmis/atelier-initiation-aquarelle-avec-isabelle/
END:VEVENT
BEGIN:VEVENT
DTSTART;TZID=Europe/Paris:20240906T170000
DTEND;TZID=Europe/Paris:20240906T200000
DTSTAMP:20260421T195650
CREATED:20240823T133700Z
LAST-MODIFIED:20240823T133700Z
UID:656-1725642000-1725652800@lafourmiliere.bzh
SUMMARY:Ouverture café associatif
DESCRIPTION:
URL:https://lafourmiliere.bzh/agenda-des-fourmis/ouverture-cafe-associatif-6/
END:VEVENT
BEGIN:VEVENT
DTSTART;TZID=Europe/Paris:20240911T140000
DTEND;TZID=Europe/Paris:20240911T180000
DTSTAMP:20260421T195650
CREATED:20240909T083212Z
LAST-MODIFIED:20240909T083212Z
UID:727-1726063200-1726077600@lafourmiliere.bzh
SUMMARY:Ouverture café associatif
DESCRIPTION:Café associatif\, initiation aux jeux d’échecs par Marc et jeux de société mis à disposition
URL:https://lafourmiliere.bzh/agenda-des-fourmis/ouverture-cafe-associatif-10/
END:VEVENT
BEGIN:VEVENT
DTSTART;TZID=Europe/Paris:20240912T183000
DTEND;TZID=Europe/Paris:20240912T210000
DTSTAMP:20260421T195650
CREATED:20240828T082509Z
LAST-MODIFIED:20240904T083312Z
UID:658-1726165800-1726174800@lafourmiliere.bzh
SUMMARY:Soirée Galais "Renforcer son pouvoir d'agir par la connaissance du droit"
DESCRIPTION:Soirée organisée par l’association Le Galais Monnaie locale du Pays de Ploërmel et animée par Marie-Hélène Collias. \nMarie-Hélène Collias est juriste et propose des activités de médiation juridique avec des pédagogies ludiques. La rencontre qu’elle animera jeudi 12 septembre 2024 dans le cadre des « Jeudis du Galais » vous permettra de découvrir des aspects méconnus du droit et d’expérimenter vous-même la position de juriste. L’objectif : voir le droit autrement\, et non plus comme quelque chose de ch… impossible? Non: venez relever le défi avec nous! \n 
URL:https://lafourmiliere.bzh/agenda-des-fourmis/soiree-galais-connaitre-les-textes-pour-comprendre-le-droit/
END:VEVENT
BEGIN:VEVENT
DTSTART;TZID=Europe/Paris:20240913T173000
DTEND;TZID=Europe/Paris:20240913T200000
DTSTAMP:20260421T195650
CREATED:20240909T082352Z
LAST-MODIFIED:20240909T082352Z
UID:713-1726248600-1726257600@lafourmiliere.bzh
SUMMARY:Ouverture du café associatif
DESCRIPTION:Café associatif tenu par les bénévoles
URL:https://lafourmiliere.bzh/agenda-des-fourmis/ouverture-du-cafe-associatif/
END:VEVENT
BEGIN:VEVENT
DTSTART;TZID=Europe/Paris:20240918T140000
DTEND;TZID=Europe/Paris:20240918T180000
DTSTAMP:20260421T195650
CREATED:20240909T083000Z
LAST-MODIFIED:20240909T083000Z
UID:723-1726668000-1726682400@lafourmiliere.bzh
SUMMARY:Ouverture café associatif
DESCRIPTION:Café associatif\, initiation aux jeux d’échecs par Marc et jeux de société mis à disposition
URL:https://lafourmiliere.bzh/agenda-des-fourmis/ouverture-cafe-associatif-8/
END:VEVENT
BEGIN:VEVENT
DTSTART;TZID=Europe/Paris:20240920T173000
DTEND;TZID=Europe/Paris:20240920T200000
DTSTAMP:20260421T195650
CREATED:20240909T082513Z
LAST-MODIFIED:20240909T082513Z
UID:715-1726853400-1726862400@lafourmiliere.bzh
SUMMARY:Ouverture du café associatif
DESCRIPTION:
URL:https://lafourmiliere.bzh/agenda-des-fourmis/ouverture-du-cafe-associatif-2/
END:VEVENT
BEGIN:VEVENT
DTSTART;TZID=Europe/Paris:20240925T140000
DTEND;TZID=Europe/Paris:20240925T180000
DTSTAMP:20260421T195650
CREATED:20240909T083056Z
LAST-MODIFIED:20240909T083056Z
UID:725-1727272800-1727287200@lafourmiliere.bzh
SUMMARY:Ouverture café associatif
DESCRIPTION:Café associatif\, initiation aux jeux d’échecs par Marc et jeux de société mis à disposition
URL:https://lafourmiliere.bzh/agenda-des-fourmis/ouverture-cafe-associatif-9/
END:VEVENT
BEGIN:VEVENT
DTSTART;TZID=Europe/Paris:20240926T200000
DTEND;TZID=Europe/Paris:20240926T220000
DTSTAMP:20260421T195650
CREATED:20240909T083856Z
LAST-MODIFIED:20240909T083934Z
UID:729-1727380800-1727388000@lafourmiliere.bzh
SUMMARY:Jeudi de Polen "Perspectives sur l'utilisation des sols en Bretagne"
DESCRIPTION:Conférence et Débat organisé par l’association Polen à La Fourmilière. \nPrésentation du rapport du CESER (Conseil Economique\, Social et Environnemental Régional)\, par des membres du Conseil de développement du Pays de Ploërmel. \nQuels seront les usages du sol en 2060\, et comment se répartiront-ils? \nSera-t-on en mesure de réguler la pression foncière\, tout en préservant les fonctionnalités écologiques du sol\, déjà fortement dégradées en de nombreux endroits\, parfois irrémédiablement?
URL:https://lafourmiliere.bzh/agenda-des-fourmis/jeudi-de-polen/
END:VEVENT
BEGIN:VEVENT
DTSTART;TZID=Europe/Paris:20240927T173000
DTEND;TZID=Europe/Paris:20240927T200000
DTSTAMP:20260421T195650
CREATED:20240909T082557Z
LAST-MODIFIED:20240909T082557Z
UID:717-1727458200-1727467200@lafourmiliere.bzh
SUMMARY:Ouverture du café associatif
DESCRIPTION:
URL:https://lafourmiliere.bzh/agenda-des-fourmis/ouverture-du-cafe-associatif-3/
END:VEVENT
END:VCALENDAR