BEGIN:VCALENDAR
VERSION:2.0
PRODID:-//La Fourmilière - ECPv6.15.20//NONSGML v1.0//EN
CALSCALE:GREGORIAN
METHOD:PUBLISH
X-ORIGINAL-URL:https://lafourmiliere.bzh
X-WR-CALDESC:Évènements pour La Fourmilière
REFRESH-INTERVAL;VALUE=DURATION:PT1H
X-Robots-Tag:noindex
X-PUBLISHED-TTL:PT1H
BEGIN:VTIMEZONE
TZID:Europe/Paris
BEGIN:DAYLIGHT
TZOFFSETFROM:+0100
TZOFFSETTO:+0200
TZNAME:CEST
DTSTART:20230326T010000
END:DAYLIGHT
BEGIN:STANDARD
TZOFFSETFROM:+0200
TZOFFSETTO:+0100
TZNAME:CET
DTSTART:20231029T010000
END:STANDARD
BEGIN:DAYLIGHT
TZOFFSETFROM:+0100
TZOFFSETTO:+0200
TZNAME:CEST
DTSTART:20240331T010000
END:DAYLIGHT
BEGIN:STANDARD
TZOFFSETFROM:+0200
TZOFFSETTO:+0100
TZNAME:CET
DTSTART:20241027T010000
END:STANDARD
BEGIN:DAYLIGHT
TZOFFSETFROM:+0100
TZOFFSETTO:+0200
TZNAME:CEST
DTSTART:20250330T010000
END:DAYLIGHT
BEGIN:STANDARD
TZOFFSETFROM:+0200
TZOFFSETTO:+0100
TZNAME:CET
DTSTART:20251026T010000
END:STANDARD
END:VTIMEZONE
BEGIN:VEVENT
DTSTART;TZID=Europe/Paris:20240728T110000
DTEND;TZID=Europe/Paris:20240728T170000
DTSTAMP:20260421T222812
CREATED:20240723T102021Z
LAST-MODIFIED:20240723T102021Z
UID:414-1722164400-1722186000@lafourmiliere.bzh
SUMMARY:Karalive & brunch
DESCRIPTION:Envie de jouer? De chanter? De partager un moment convivial? \nLa commission animation de La Fourmilière organise un « Brunch karalive »\, un karaoké live durant lequel chacun.e est invité.e à accompagner Marc au chant ou à la musique. Les paroles et les accords seront projetés. \nC’est à La Fourmilière dimanche 28 Juillet à partir de 11h. \nLes participant.es apportent ce qu’ils souhaitent. Pour une variété de choix\, celles et ceux qui sont nés\nentre le 1er Janvier et le 31 Juin apportent du sucré ; entre le 1er Juillet et le 31 décembre\, du salé. \nL’association fournit le pain\, les boissons fraîches\, le thé et le café.
URL:https://lafourmiliere.bzh/agenda-des-fourmis/karalive-brunch/
LOCATION:La Fourmilière
END:VEVENT
END:VCALENDAR