BEGIN:VCALENDAR
VERSION:2.0
PRODID:-//La Fourmilière - ECPv6.15.20//NONSGML v1.0//EN
CALSCALE:GREGORIAN
METHOD:PUBLISH
X-ORIGINAL-URL:https://lafourmiliere.bzh
X-WR-CALDESC:Évènements pour La Fourmilière
REFRESH-INTERVAL;VALUE=DURATION:PT1H
X-Robots-Tag:noindex
X-PUBLISHED-TTL:PT1H
BEGIN:VTIMEZONE
TZID:Europe/Paris
BEGIN:DAYLIGHT
TZOFFSETFROM:+0100
TZOFFSETTO:+0200
TZNAME:CEST
DTSTART:20230326T010000
END:DAYLIGHT
BEGIN:STANDARD
TZOFFSETFROM:+0200
TZOFFSETTO:+0100
TZNAME:CET
DTSTART:20231029T010000
END:STANDARD
BEGIN:DAYLIGHT
TZOFFSETFROM:+0100
TZOFFSETTO:+0200
TZNAME:CEST
DTSTART:20240331T010000
END:DAYLIGHT
BEGIN:STANDARD
TZOFFSETFROM:+0200
TZOFFSETTO:+0100
TZNAME:CET
DTSTART:20241027T010000
END:STANDARD
BEGIN:DAYLIGHT
TZOFFSETFROM:+0100
TZOFFSETTO:+0200
TZNAME:CEST
DTSTART:20250330T010000
END:DAYLIGHT
BEGIN:STANDARD
TZOFFSETFROM:+0200
TZOFFSETTO:+0100
TZNAME:CET
DTSTART:20251026T010000
END:STANDARD
END:VTIMEZONE
BEGIN:VEVENT
DTSTART;TZID=Europe/Paris:20240611T200000
DTEND;TZID=Europe/Paris:20240611T213000
DTSTAMP:20260421T233450
CREATED:20240610T141219Z
LAST-MODIFIED:20240610T144427Z
UID:321-1718136000-1718141400@lafourmiliere.bzh
SUMMARY:Soirée "Bio à La Cantine"
DESCRIPTION:Soirée de réunion-débat avec le collectif « Bio à la Cantine » autour de l’application de la loi Egalim sur notre territoire
URL:https://lafourmiliere.bzh/agenda-des-fourmis/soiree-bio-a-la-cantine/
CATEGORIES:événement association partenaire
END:VEVENT
BEGIN:VEVENT
DTSTART;TZID=Europe/Paris:20240612T140000
DTEND;TZID=Europe/Paris:20240612T160000
DTSTAMP:20260421T233450
CREATED:20240610T143023Z
LAST-MODIFIED:20240610T143337Z
UID:328-1718200800-1718208000@lafourmiliere.bzh
SUMMARY:Présentation projet "espace de co-working" par les étudiants du Lycée La Touche
DESCRIPTION:Les étudiants du BTS « développement et animation des territoires » du Lycée La Touche présentent leur espace de co-working pensé à La Fourmilière entre 14h et 16h. Venez découvrir leur projet et les aider à le construire! \n 
URL:https://lafourmiliere.bzh/agenda-des-fourmis/apres-midi-cafe-associatif-et-jeux-dechecs/
END:VEVENT
BEGIN:VEVENT
DTSTART;TZID=Europe/Paris:20240612T140000
DTEND;TZID=Europe/Paris:20240612T180000
DTSTAMP:20260421T233450
CREATED:20240610T143441Z
LAST-MODIFIED:20240610T143441Z
UID:332-1718200800-1718215200@lafourmiliere.bzh
SUMMARY:Après-midi café associatif et jeux d'échecs
DESCRIPTION:
URL:https://lafourmiliere.bzh/agenda-des-fourmis/apres-midi-cafe-associatif-et-jeux-dechecs-2/
END:VEVENT
BEGIN:VEVENT
DTSTART;TZID=Europe/Paris:20240612T190000
DTEND;TZID=Europe/Paris:20240612T213000
DTSTAMP:20260421T233450
CREATED:20240610T142637Z
LAST-MODIFIED:20240610T142637Z
UID:323-1718218800-1718227800@lafourmiliere.bzh
SUMMARY:Soirée-Atelier "eau\, paysage et territoire"
DESCRIPTION:Venez nous parler des lieux et des paysages qui comptent pour vous autour de Ploërmel et le long de l’Yvel et participez au programme de recherche-action PAGAIE (Des PAysages scénarisés pour une Gestion pArticIpative de l’Eau). \nAu programme: activités créatives\, discussions et buffet partagé \nC’est quoi le projet PAGAIE ?\nC’est un projet de recherche-action participatif qui s’intéresse au devenir des paysages\, dans un contexte de tension croissantes sur la ressource en eau\, dans l’objectif de susciter réflexion et discussions sur le partage de l’eau. Il réunit des chercheur-euses en hydrogéologie\, en écologie et en sciences humaines\, et porte sur trois sites\, dont le bassin-versant de l’Yvel et du Lac au Duc. \nQu’est-ce qu’on va faire?\nNous vous proposerons des temps de création et de discussion autour de cartes\, de photographies et de partages de souvenirs et d’expériences\, autour d’un buffet. Nous construirons ainsi collectivement un itinéraire de balade commentée en vue d’un deuxième atelier « hors les murs » en juillet. \nQui peut venir ?\nL’atelier est ouvert sur inscription (pour prévoir le matériel et le buffet!) aux habitantes\, élu-es\, aux personnes qui travaillent ou qui visitent de temps à autre les alentours de l’Yvel ou du Lac au Duc – … et qui ont des choses à en dire. Comment faire pour venir\, que faut-il apporter\, et où ?\n1) Inscrivez-vous ici\n2) Apportez une photo d’un lieu (extérieur) que vous aimez particulièrement dans la zone concernée – si possible prise par vous \nPour en savoir plus :\nhttps://eau-et-territoire.org/le-projet-pagaie/. \nOrganisé par une équipe de chercheuses de l’Université de Rennes 2\, du bureau d’étude Ethnozzi et du Living Lab Clef
URL:https://lafourmiliere.bzh/agenda-des-fourmis/soiree-atelier-eau-paysage-et-territoire/
END:VEVENT
BEGIN:VEVENT
DTSTART;TZID=Europe/Paris:20240613T183000
DTEND;TZID=Europe/Paris:20240613T200000
DTSTAMP:20260421T233450
CREATED:20240610T135704Z
LAST-MODIFIED:20240610T142755Z
UID:311-1718303400-1718308800@lafourmiliere.bzh
SUMMARY:Soirée Galais "électrifier son vélo pour une mobilité durable" avec Thierry\, Jean-Luc et Arthur Dumas
DESCRIPTION:
URL:https://lafourmiliere.bzh/agenda-des-fourmis/311/
LOCATION:La Fourmilière
END:VEVENT
BEGIN:VEVENT
DTSTART;TZID=Europe/Paris:20240618T190000
DTEND;TZID=Europe/Paris:20240618T210000
DTSTAMP:20260421T233450
CREATED:20240610T144237Z
LAST-MODIFIED:20240610T144237Z
UID:336-1718737200-1718744400@lafourmiliere.bzh
SUMMARY:Conseil Coopératif de La Fourmilière
DESCRIPTION:Réunion du conseil coopératif de La Fourmilière
URL:https://lafourmiliere.bzh/agenda-des-fourmis/conseil-cooperatif-de-la-fourmiliere/
END:VEVENT
BEGIN:VEVENT
DTSTART;TZID=Europe/Paris:20240620T181500
DTEND;TZID=Europe/Paris:20240620T200000
DTSTAMP:20260421T233450
CREATED:20240610T144029Z
LAST-MODIFIED:20240610T144029Z
UID:334-1718907300-1718913600@lafourmiliere.bzh
SUMMARY:Commission Animation de La Fourmilière
DESCRIPTION:Réunion de la commission animation de La Fourmilière
URL:https://lafourmiliere.bzh/agenda-des-fourmis/commission-animation-de-la-fourmiliere/
END:VEVENT
BEGIN:VEVENT
DTSTART;TZID=Europe/Paris:20240625T093000
DTEND;TZID=Europe/Paris:20240625T173000
DTSTAMP:20260421T233450
CREATED:20240610T145508Z
LAST-MODIFIED:20240610T145508Z
UID:338-1719307800-1719336600@lafourmiliere.bzh
SUMMARY:Pôle ESS atelier financement association
DESCRIPTION:La troisième journée de formation du cycle autour du prévisionnel financier organisé par le pôle économie sociale et solidaire du Pays de Ploërmel se déroule à La Fourmilière \nSur inscription ici \net plus d’infos là
URL:https://lafourmiliere.bzh/agenda-des-fourmis/pole-ess-atelier-financement-association/
CATEGORIES:événement association partenaire
END:VEVENT
BEGIN:VEVENT
DTSTART;TZID=Europe/Paris:20240627T190000
DTEND;TZID=Europe/Paris:20240627T210000
DTSTAMP:20260421T233450
CREATED:20240618T131418Z
LAST-MODIFIED:20240618T131418Z
UID:403-1719514800-1719522000@lafourmiliere.bzh
SUMMARY:Réunion Stage Paysan Créatif
DESCRIPTION:Réunion d’information de la Coopérative d’Installation en Agriculture Paysanne du Morbihan sur le stage Paysan Créatif.\n\n\n\nD’une durée d’un an\, il permet aux personnes qui souhaitent s’installer en agriculture paysanne d’approfondir leurs connaissances technico-économiques sur un cycle de production\, de s’insérer sur leur futur territoire d’installation\, tout en travaillant leur projet de création d’activité agricole via un statut adapté.\n\n\nLe démarrage de la troisième session aura lieu en janvier 2025.\n\n\n\n\n\nInscription à la réunion à l’adresse coordination@ciap56.fr jusqu’au 26 Juin.
URL:https://lafourmiliere.bzh/agenda-des-fourmis/reunion-stage-paysan-creatif/
END:VEVENT
END:VCALENDAR